BEGIN:VCALENDAR
VERSION:2.0
PRODID:-//Tukios.com/
BEGIN:VEVENT
UID:a557fc51-ff45-4290-8811-9f350df9bb8a@www.reesfuneralhomes.com
DTSTAMP:20260421T085210Z
DTSTART:20260424T200000Z
DTEND:20260425T000000Z
SUMMARY:Visitation
DESCRIPTION:
URL:https://www.reesfuneralhomes.com/obituaries/anthony-debonis-jr
LOCATION:Rees Funeral Home 600 West Old Ridge Road  Hobart IN 46342
GEO:41.5397543;-87.2678277
END:VEVENT
END:VCALENDAR