BEGIN:VCALENDAR
VERSION:2.0
PRODID:-//Tukios.com/
BEGIN:VEVENT
UID:518fa2e2-4721-4625-b470-e3528963e1c1@www.reesfuneralhomes.com
DTSTAMP:20260421T184752Z
DTSTART:20260425T190000Z
DTEND:20260426T010000Z
SUMMARY:Visitation
DESCRIPTION:
URL:https://www.reesfuneralhomes.com/obituaries/david-mardis
LOCATION: 3781 Central Ave  Lake Station IN 46405
GEO:41.5745803;-87.2379723
END:VEVENT
END:VCALENDAR