BEGIN:VCALENDAR
VERSION:2.0
PRODID:-//Tukios.com/
BEGIN:VEVENT
UID:ee664af9-6edf-4cab-8bbf-ede67dff3cef@www.reesfuneralhomes.com
DTSTAMP:20260421T015810Z
DTSTART:20260423T190000Z
DTEND:20260424T000000Z
SUMMARY:Visitation
DESCRIPTION:
URL:https://www.reesfuneralhomes.com/obituaries/ralph-lundewall
LOCATION:Rees Funeral Home, Hobart Chapel 600 W Old Ridge Rd  Hobart IN 
	46342
GEO:41.5397224;-87.2677438
END:VEVENT
END:VCALENDAR