BEGIN:VCALENDAR
VERSION:2.0
PRODID:-//Tukios.com/
BEGIN:VEVENT
UID:eb64a2f6-9764-4115-84e0-c64c60c6f52c@www.reesfuneralhomes.com
DTSTAMP:20260421T015657Z
DTSTART:20260424T000000Z
DTEND:20260424T010000Z
SUMMARY:Stories
DESCRIPTION:
URL:https://www.reesfuneralhomes.com/obituaries/ralph-lundewall
LOCATION: 600 W Old Ridge Rd  Hobart IN 46342
GEO:41.5397543;-87.2678277
END:VEVENT
END:VCALENDAR