BEGIN:VCALENDAR
VERSION:2.0
PRODID:-//Tukios.com/
BEGIN:VEVENT
UID:c16912d4-0777-4011-90d0-d80066d42907@www.reesfuneralhomes.com
DTSTAMP:20260420T210323Z
DTSTART:20260424T200000Z
DTEND:20260425T000000Z
SUMMARY:Memorial Gathering
DESCRIPTION:
URL:https://www.reesfuneralhomes.com/obituaries/robert-evans
LOCATION: 600 W Old Ridge Rd  Hobart IN 46342
GEO:41.5397543;-87.2678277
END:VEVENT
END:VCALENDAR