BEGIN:VCALENDAR
VERSION:2.0
PRODID:-//Tukios.com/
BEGIN:VEVENT
UID:db06dd4b-6fde-414f-a793-6fa18dbfea64@www.reesfuneralhomes.com
DTSTAMP:20260425T205711Z
DTSTART:20260428T170000Z
DTEND:20260428T210000Z
SUMMARY:Visitation
DESCRIPTION:
URL:https://www.reesfuneralhomes.com/obituaries/timothy-stanton-sr
LOCATION: 5341 Central Ave  Portage IN 46368
GEO:41.5747438;-87.2087917
END:VEVENT
END:VCALENDAR